BEGIN:VCALENDAR
VERSION:2.0
PRODID:-//Mistral Music - ECPv6.15.20//NONSGML v1.0//EN
CALSCALE:GREGORIAN
METHOD:PUBLISH
X-ORIGINAL-URL:https://mistralmusic.org
X-WR-CALDESC:Events for Mistral Music
REFRESH-INTERVAL;VALUE=DURATION:PT1H
X-Robots-Tag:noindex
X-PUBLISHED-TTL:PT1H
BEGIN:VTIMEZONE
TZID:America/New_York
BEGIN:DAYLIGHT
TZOFFSETFROM:-0500
TZOFFSETTO:-0400
TZNAME:EDT
DTSTART:20250309T070000
END:DAYLIGHT
BEGIN:STANDARD
TZOFFSETFROM:-0400
TZOFFSETTO:-0500
TZNAME:EST
DTSTART:20251102T060000
END:STANDARD
BEGIN:DAYLIGHT
TZOFFSETFROM:-0500
TZOFFSETTO:-0400
TZNAME:EDT
DTSTART:20260308T070000
END:DAYLIGHT
BEGIN:STANDARD
TZOFFSETFROM:-0400
TZOFFSETTO:-0500
TZNAME:EST
DTSTART:20261101T060000
END:STANDARD
BEGIN:DAYLIGHT
TZOFFSETFROM:-0500
TZOFFSETTO:-0400
TZNAME:EDT
DTSTART:20270314T070000
END:DAYLIGHT
BEGIN:STANDARD
TZOFFSETFROM:-0400
TZOFFSETTO:-0500
TZNAME:EST
DTSTART:20271107T060000
END:STANDARD
END:VTIMEZONE
BEGIN:VEVENT
DTSTART;TZID=America/New_York:20261024T160000
DTEND;TZID=America/New_York:20261024T180000
DTSTAMP:20260423T052042
CREATED:20260412T230007Z
LAST-MODIFIED:20260404T033504Z
UID:10000040-1792857600-1792864800@mistralmusic.org
SUMMARY:SOTTO VOCE - Andover
DESCRIPTION:Sotto Voce brings some of history’s greatest opera composers off the grand stage and into an intimate chamber setting. From Verdi’s rarely-heard String Quartet to Respighi’s lush Piano Quintet\, this program reveals a more personal side of opera composers. Paired with three two-minute commissions based on Verdi’s La Forza del Destino\, plus a few irresistible arias— the result is an affecting evening of Bel Canto!
URL:https://mistralmusic.org/event/sotto-voce/
LOCATION:West Parish Church\, 129 Reservation Rd\, Andover\, MA\, United States
ATTACH;FMTTYPE=image/jpeg:https://mistralmusic.org/wp-content/uploads/2026/04/SOTTO-VOCE.jpg
END:VEVENT
BEGIN:VEVENT
DTSTART;TZID=America/New_York:20261025T170000
DTEND;TZID=America/New_York:20261025T190000
DTSTAMP:20260423T052042
CREATED:20260412T230008Z
LAST-MODIFIED:20260404T033446Z
UID:10000041-1792947600-1792954800@mistralmusic.org
SUMMARY:SOTTO VOCE - Brookline
DESCRIPTION:Sotto Voce brings some of history’s greatest opera composers off the grand stage and into an intimate chamber setting. From Verdi’s rarely-heard String Quartet to Respighi’s lush Piano Quintet\, this program reveals a more personal side of opera composers. Paired with three two-minute commissions based on Verdi’s La Forza del Destino\, plus a few irresistible arias— the result is an affecting evening of Bel Canto!
URL:https://mistralmusic.org/event/sotto-voce-brookline/
LOCATION:St. Paul’s Church\, 15 St Paul St\, Brookline\, MA\, United States
ATTACH;FMTTYPE=image/jpeg:https://mistralmusic.org/wp-content/uploads/2026/04/SOTTO-VOCE.jpg
END:VEVENT
END:VCALENDAR