BEGIN:VCALENDAR
VERSION:2.0
PRODID:-//Mistral Music - ECPv6.15.20//NONSGML v1.0//EN
CALSCALE:GREGORIAN
METHOD:PUBLISH
X-ORIGINAL-URL:https://mistralmusic.org
X-WR-CALDESC:Events for Mistral Music
REFRESH-INTERVAL;VALUE=DURATION:PT1H
X-Robots-Tag:noindex
X-PUBLISHED-TTL:PT1H
BEGIN:VTIMEZONE
TZID:America/New_York
BEGIN:DAYLIGHT
TZOFFSETFROM:-0500
TZOFFSETTO:-0400
TZNAME:EDT
DTSTART:20260308T070000
END:DAYLIGHT
BEGIN:STANDARD
TZOFFSETFROM:-0400
TZOFFSETTO:-0500
TZNAME:EST
DTSTART:20261101T060000
END:STANDARD
BEGIN:DAYLIGHT
TZOFFSETFROM:-0500
TZOFFSETTO:-0400
TZNAME:EDT
DTSTART:20270314T070000
END:DAYLIGHT
BEGIN:STANDARD
TZOFFSETFROM:-0400
TZOFFSETTO:-0500
TZNAME:EST
DTSTART:20271107T060000
END:STANDARD
BEGIN:DAYLIGHT
TZOFFSETFROM:-0500
TZOFFSETTO:-0400
TZNAME:EDT
DTSTART:20280312T070000
END:DAYLIGHT
BEGIN:STANDARD
TZOFFSETFROM:-0400
TZOFFSETTO:-0500
TZNAME:EST
DTSTART:20281105T060000
END:STANDARD
END:VTIMEZONE
BEGIN:VEVENT
DTSTART;TZID=America/New_York:20270403T160000
DTEND;TZID=America/New_York:20270403T180000
DTSTAMP:20260423T051925
CREATED:20260412T230007Z
LAST-MODIFIED:20260404T033202Z
UID:10000046-1806768000-1806775200@mistralmusic.org
SUMMARY:HEAVEN & EARTH - Andover
DESCRIPTION:Debussy’s Faun drifts between illusion and desire\, and Mahler’s Songs of a Wayfarer confronts love\, loss\, and a search for consolation in nature. Mozart’s luminous Concerto for Flute and Harp becomes the bridge between worlds\, suspending us in a fleeting harmony of the earthly and the divine.
URL:https://mistralmusic.org/event/heaven-earth-andover/
LOCATION:West Parish Church\, 129 Reservation Rd\, Andover\, MA\, United States
ATTACH;FMTTYPE=image/webp:https://mistralmusic.org/wp-content/uploads/2026/04/heaven-cropped.webp
END:VEVENT
BEGIN:VEVENT
DTSTART;TZID=America/New_York:20270404T170000
DTEND;TZID=America/New_York:20270404T190000
DTSTAMP:20260423T051925
CREATED:20260412T230025Z
LAST-MODIFIED:20260404T033142Z
UID:10000047-1806858000-1806865200@mistralmusic.org
SUMMARY:HEAVEN & EARTH - Brookline
DESCRIPTION:Debussy’s Faun drifts between illusion and desire\, and Mahler’s Songs of a Wayfarer confronts love\, loss\, and a search for consolation in nature. Mozart’s luminous Concerto for Flute and Harp becomes the bridge between worlds\, suspending us in a fleeting harmony of the earthly and the divine.
URL:https://mistralmusic.org/event/heaven-earth-brookline/
LOCATION:St. Paul’s Church\, 15 St Paul St\, Brookline\, MA\, United States
ATTACH;FMTTYPE=image/webp:https://mistralmusic.org/wp-content/uploads/2026/04/heaven-cropped.webp
END:VEVENT
END:VCALENDAR