BEGIN:VCALENDAR
VERSION:2.0
PRODID:-//Mistral Music - ECPv6.15.20//NONSGML v1.0//EN
CALSCALE:GREGORIAN
METHOD:PUBLISH
X-ORIGINAL-URL:https://mistralmusic.org
X-WR-CALDESC:Events for Mistral Music
REFRESH-INTERVAL;VALUE=DURATION:PT1H
X-Robots-Tag:noindex
X-PUBLISHED-TTL:PT1H
BEGIN:VTIMEZONE
TZID:America/New_York
BEGIN:DAYLIGHT
TZOFFSETFROM:-0500
TZOFFSETTO:-0400
TZNAME:EDT
DTSTART:20210314T070000
END:DAYLIGHT
BEGIN:STANDARD
TZOFFSETFROM:-0400
TZOFFSETTO:-0500
TZNAME:EST
DTSTART:20211107T060000
END:STANDARD
BEGIN:DAYLIGHT
TZOFFSETFROM:-0500
TZOFFSETTO:-0400
TZNAME:EDT
DTSTART:20220313T070000
END:DAYLIGHT
BEGIN:STANDARD
TZOFFSETFROM:-0400
TZOFFSETTO:-0500
TZNAME:EST
DTSTART:20221106T060000
END:STANDARD
BEGIN:DAYLIGHT
TZOFFSETFROM:-0500
TZOFFSETTO:-0400
TZNAME:EDT
DTSTART:20230312T070000
END:DAYLIGHT
BEGIN:STANDARD
TZOFFSETFROM:-0400
TZOFFSETTO:-0500
TZNAME:EST
DTSTART:20231105T060000
END:STANDARD
BEGIN:DAYLIGHT
TZOFFSETFROM:-0500
TZOFFSETTO:-0400
TZNAME:EDT
DTSTART:20240310T070000
END:DAYLIGHT
BEGIN:STANDARD
TZOFFSETFROM:-0400
TZOFFSETTO:-0500
TZNAME:EST
DTSTART:20241103T060000
END:STANDARD
BEGIN:DAYLIGHT
TZOFFSETFROM:-0500
TZOFFSETTO:-0400
TZNAME:EDT
DTSTART:20250309T070000
END:DAYLIGHT
BEGIN:STANDARD
TZOFFSETFROM:-0400
TZOFFSETTO:-0500
TZNAME:EST
DTSTART:20251102T060000
END:STANDARD
BEGIN:DAYLIGHT
TZOFFSETFROM:-0500
TZOFFSETTO:-0400
TZNAME:EDT
DTSTART:20260308T070000
END:DAYLIGHT
BEGIN:STANDARD
TZOFFSETFROM:-0400
TZOFFSETTO:-0500
TZNAME:EST
DTSTART:20261101T060000
END:STANDARD
BEGIN:DAYLIGHT
TZOFFSETFROM:-0500
TZOFFSETTO:-0400
TZNAME:EDT
DTSTART:20270314T070000
END:DAYLIGHT
BEGIN:STANDARD
TZOFFSETFROM:-0400
TZOFFSETTO:-0500
TZNAME:EST
DTSTART:20271107T060000
END:STANDARD
END:VTIMEZONE
BEGIN:VEVENT
DTSTART;TZID=America/New_York:20260412T170000
DTEND;TZID=America/New_York:20260412T190000
DTSTAMP:20260424T032742
CREATED:20250406T230032Z
LAST-MODIFIED:20260217T144348Z
UID:10000037-1776013200-1776020400@mistralmusic.org
SUMMARY:AEOLIAN TAPESTRIES - Brookline
DESCRIPTION:MESSAGER\, HAHN\, SAINT-SAENS\, ENESCO\, COLEMAN \nCome hear the past and present in dialogue\, where winds\, strings\, and harp intertwine\, spanning centuries and cultures. From Saint-Saëns’ brilliant Tarantella and the refined lyricism of Reynaldo Hahn\, to the rhythmic drive of Valerie Coleman and the folk-inspired excitement of Enesco\, the program highlights music that is both distinctive and immediately engaging\, including an entertaining nonet arrangement of French composer André Messager’s beautiful ballet The Two Pigeons! \n  \nCamille SAINT-SAËNS (1835-1921) Tarantella\n  arr. for flute\, clarinet\, string quartet & harp by David Walter) \nReynaldo HAHN (1874-1947) A Chloris  \n                   arr. for English horn\, string quartet\, & harp  by David Walter \nValerie COLEMAN (b. 1970) Umoja for string quartet \nGeorge ENESCO (1881-1955)  Romanian Rhapsody No. 1\n                                          arranged for small ensemble by Rick Robinson \nAndré MESSAGER(1853-1929) Suite from the ballet\, Les Deux Pigeons\,  arranged for nonet by Todd Palmer \n  \nJulie Scolnik\, flute;  Kemp Jernigan\, oboe; Caitlin Lynch\, viola; Krysten Keches\, harp;\n Emma Frucht\, violin; Donald Palma\, bass;  Yasmina Spiegelberg\, clarinet;  Irina Muresanu\, violin; Jean-Michel Fonteneau\, cello   \n \n  \n  \n 
URL:https://mistralmusic.org/event/aeolian-tapestries-brookline/
LOCATION:St. Paul’s Church\, 15 St Paul St\, Brookline\, MA\, United States
ATTACH;FMTTYPE=image/jpeg:https://mistralmusic.org/wp-content/uploads/2025/03/AEOLIAN-TAPESTRies.jpeg
END:VEVENT
BEGIN:VEVENT
DTSTART;TZID=America/New_York:20251206T170000
DTEND;TZID=America/New_York:20251206T190000
DTSTAMP:20260424T032742
CREATED:20250406T230014Z
LAST-MODIFIED:20251202T192502Z
UID:10000032-1765040400-1765047600@mistralmusic.org
SUMMARY:THE BAROQUE BIG BAND - Brookline
DESCRIPTION:Note day swap! \nJ.S. BACH\, HANDEL\, RAMEAU\, VIVALDI\, PALLAVACINO \nMistral’s annual bonanza of Baroque masterpieces\, with virtuosic soloists taking turns in the spotlight. Double concertos by Telemann\, Vivaldi\, and Quantz\, gorgeous contralto arias\, and other surprises! \nVIVALDI (1678-1741) Concerto Grosso RV 150 III Allegro \nPURCELL (1659–1695) Chacony in G minor\, (arr. Britten IN ‘47\, rev. ’63) \nThree arias for mezzo-soprano \nHANDEL (1685-1759) Lascia ch´io pianga  from Rinaldo \nJ.S. BACH (1685-1750): Ich Habe Genug BWV 82a with flute obbligato. \nPALLAVICINO (1630-1688)  Vieni\, corri\, volami in braccio from L’Antiope \nVIVALDI (1678-1741)  Concerto for 2 Violins in D minor RV 514    \nHANDEL (1685-1759) /HALVORSEN (1864-1935) Duo for violin & viola \nTELEMANN (1681-1767): Concerto two violas TWV 52:G3  \nQUANTZ  (1697–1773)- Concerto for 2 Flutes in G major\, QV 6:7 arranged for flute & oboe \n \n 
URL:https://mistralmusic.org/event/the-baroque-big-band-brookline-3/
LOCATION:St. Paul’s Church\, 15 St Paul St\, Brookline\, MA\, United States
ATTACH;FMTTYPE=image/png:https://mistralmusic.org/wp-content/uploads/2025/03/THE-BAROQUE-BIG-BAND.png
END:VEVENT
BEGIN:VEVENT
DTSTART;TZID=America/New_York:20251026T170000
DTEND;TZID=America/New_York:20251026T190000
DTSTAMP:20260424T032742
CREATED:20250406T230013Z
LAST-MODIFIED:20250709T154253Z
UID:10000031-1761498000-1761505200@mistralmusic.org
SUMMARY:Young at Heart - Brookline
DESCRIPTION:FOR AGES 5-95 \nThe Maria Martell-Winthrop Memorial Concert \nJust in time for Halloween & Thanksgiving\, join us for an afternoon of vibrant musical story-telling: Bruce Adolphe’s Tough Turkey in the Big City\, Dukas’ The Sorcerer’s Apprentice\, and Mullikin’s The Emperor & the Nightingale. Seriously enjoyable FOR ALL AGES! Connect with your inner child and come in your Halloween costumes! WCRB radio’s Cathy Fuller narrates! \n  \n \n 
URL:https://mistralmusic.org/event/young-at-heart-brookline/
LOCATION:St. Paul’s Church\, 15 St Paul St\, Brookline\, MA\, United States
ATTACH;FMTTYPE=image/jpeg:https://mistralmusic.org/wp-content/uploads/2025/04/Young-at-Heart-v2.jpeg
END:VEVENT
BEGIN:VEVENT
DTSTART;TZID=America/New_York:20250914T170000
DTEND;TZID=America/New_York:20250914T190000
DTSTAMP:20260424T032742
CREATED:20250406T230007Z
LAST-MODIFIED:20250906T003620Z
UID:10000029-1757869200-1757876400@mistralmusic.org
SUMMARY:THE BOULANGER CONNECTION - Brookline
DESCRIPTION:COPLAND\, PIAZZOLLA\, FAURÉ\, LILI BOULANGER\, BERNSTEIN \nGuided by the profound influence of her teacher Gabriel Fauré\, Nadia Boulanger became a transformative force in 20th-century music\, shaping generations of composers with her unwavering dedication to craft\, innovation\, and the integration of tradition with modernity. We honor her extraordinary legacy with a program of works by some of her most renowned students (and “grand-students”)\, as well as music from her own inner circle. \n  \nLili BOULANGER (1893-1918)  Nocturne & Cortege for violin & piano;   D’un Matin de Printemps for viola\, cello\, & piano \nAaron COPLAND (1900-1990)  Sonata for flute & piano \nLeonard BERNSTEIN (1918-1990) “Glitter and Be Gay” from the opera “Candide\,”  arranged for violin & piano by Eric Stern \nNathaniel DETT(1882-1943)  “Juba Dance” for solo piano  \nAstor PIAZZOLLA (1921-1992) Las Cuatro Estaciones porteñas (Four Seasons of Buenos Aires) for flute\, cello\, & piano \nPrimavera Porteña (Spring); Otoño Porteño (Autumn) \nIntermission  \nGabriel FAURÉ (1845-1924)  Piano Quartet No. 1 in C Minor\, Op. 15 \n  \nWith Stephanie Fong\, Julianne Lee\, Max Levinson\, Julie Scolnik\, and Owen Young
URL:https://mistralmusic.org/event/the-boulanger-connection-brookline/
LOCATION:St. Paul’s Church\, 15 St Paul St\, Brookline\, MA\, United States
ATTACH;FMTTYPE=image/jpeg:https://mistralmusic.org/wp-content/uploads/2025/03/THE-BOULANGER-Connection.jpeg
END:VEVENT
BEGIN:VEVENT
DTSTART;TZID=America/New_York:20250406T170000
DTEND;TZID=America/New_York:20250406T190000
DTSTAMP:20260424T032742
CREATED:20240407T230008Z
LAST-MODIFIED:20250304T214502Z
UID:10000027-1743958800-1743966000@mistralmusic.org
SUMMARY:Reflections From The Seine: Brookline
DESCRIPTION:Mistral Music is pleased to invite audiences on a journey through luminous soundscapes\, where colors and lyrical melodies intertwine to capture the beauty and spirit of France’s rich musical tradition. \nThe program opens with a mesmerizing gem by the little-known Breton composer and naval officer Jean Cras—his Quintet for Flute\, String Trio\, and Harp. Infused with delicate textures and maritime influences\, this evocative work reflects the rhythms of the sea and the composer’s life aboard ship. \nNext\, selected movements from Jean Françaix’s String Trio offer a playful and witty interlude\, full of charm and sparkling ingenuity. The mood then shifts with Danse Macabre by Camille Saint-Saëns\, reimagined for violin duo—a thrilling and eerie depiction of the dance of death\, balancing mischief and mystery in equal measure. \nThe concert continues with Claude Debussy’s String Quartet\, a revolutionary masterpiece that redefined chamber music with its innovative harmonies and fluid rhythmic invention. \nIn celebration of Maurice Ravel’s 150th Birthday\, the concert concludes with his Introduction & Allegro\, a radiant work which brings all the artists together on stage\, and envelops the listener in lush textures and shimmering color\, showcasing the virtuosity of Boston Symphony Orchestra’s principal harpist\, Jessica Zhou. \nJoin us for Reflections from the Seine\, where the music of some of France’s greatest composers flows like the river itself—shimmering\, mysterious\, and endlessly captivating. With French cellist Jean-Michel Fonteneau\, Mistral violist Stephanie Fong\, guest violinists Siwoo Kim and Maureen Nelson\, flutist Julie Scolnik\, clarinetist Catherine Hudgins\, and BSO principal harp goddess\, Jessica Zhou. \nCome bid us farewell for the summer! \nJean CRAS (1870-1958)  Quintet for flute\, string trio\, & harp \nJean FRANÇAIX  String Trio \nCamille SAINT-SAENS: Danse Macabre for violin duo arr. Boutellis/Duval \nClaude DEBUSSY String Quartet  \nMaurice RAVEL (1875-1937) Introduction & Allegro\nfor harp\, for string quartet\, flute\, & clarinet
URL:https://mistralmusic.org/event/reflections-from-the-seine-brookline/
LOCATION:St. Paul’s Church\, 15 St Paul St\, Brookline\, MA\, United States
ATTACH;FMTTYPE=image/jpeg:https://mistralmusic.org/wp-content/uploads/2024/03/3.jpg
END:VEVENT
BEGIN:VEVENT
DTSTART;TZID=America/New_York:20250209T170000
DTEND;TZID=America/New_York:20250209T190000
DTSTAMP:20260424T032742
CREATED:20240407T230026Z
LAST-MODIFIED:20250117T011802Z
UID:10000025-1739120400-1739127600@mistralmusic.org
SUMMARY:Sense & Sensibility : Brookline
DESCRIPTION:Beethoven\, Montgomery\, Puccini\, Dvorak\nThe Age of Reason shares the stage with the Romantic Era: A quintet by Beethoven\, a sextet by Dvorak\, and two short string quartet gems: Puccini’s “Crisantemi” and “Strum” by the young\, brilliant African American composer\, Jessie Montgomery. \nFor our Valentine concert this year\, the Age of Reason shares the stage with the Romantic Era in a program that includes Beethoven’s sunny String Quintet Op. 29 in a new flute arrangement\, Dvorak’s expansive String Sextet in A major\, and two short string quartet gems: Puccini’s delicate “Crisantemi\,” and the ground-breaking “Strum” by the brilliant young African American composer\, Jessie Montgomery.\n \nThe Beethoven Quintet\, Op. 29\, is his only full-scale\, original composition in the string quintet genre; it is a richly melodic and elegant work\, and its blustery finale\, and occasional flashes of lightening have given the work its nickname\, “Storm Quintet.” It is a pleasure to have made it a newish work by transcribing the first violin part for flute. You know me by now! The contrast of the flute timbre and resonance against the four strings enhances its innate beauty.\n \nJessie Montgomery\, Musical America’s 2023 Composer of the Year\, is a GRAMMY-winning\, acclaimed composer\, violinist\, and educator whose music interweaves classical music with elements of vernacular music\, improvisation\, poetry\, and social consciousness\, making her an acute interpreter of twenty-first century American sound and experience.\n \nThe Dvorak String Sextet was composed in the middle of the composer’s Slavic period\, in which the composer introduced folk elements into his music. When conductor Václav Talich heard Dvořák’s sextet in 1941\, he declared: “Oh my word! This is so beautiful! Beautiful musical ideas\, a beautiful structure and a beautiful sound! God himself must have been walking the Czech Lands when his humble servant Dvořák bequeathed to us a work of such excellence and sanctity.”\n \nAppropriate for Valentine’s Day\, among the featured performers will be two married couples—Mistral member violinist Sarita Kwok and her husband\, BSO cellist Alexandre Lecarme\, and returning guest artists hailing from the Chicago Symphony: violist Lawrence Neumann and violinist Qing Hou; Mistral members violist Stephanie Fong\, flutist Julie Scolnik\, and frequent guest cellist Raman Ramakrishnan complete the roster.
URL:https://mistralmusic.org/event/sense-sensibility-ii-brookline/
LOCATION:St. Paul’s Church\, 15 St Paul St\, Brookline\, MA\, United States
ATTACH;FMTTYPE=image/jpeg:https://mistralmusic.org/wp-content/uploads/2024/03/4.jpg
END:VEVENT
BEGIN:VEVENT
DTSTART;TZID=America/New_York:20241208T170000
DTEND;TZID=America/New_York:20241208T190000
DTSTAMP:20260424T032742
CREATED:20240407T230006Z
LAST-MODIFIED:20240621T151315Z
UID:10000023-1733677200-1733684400@mistralmusic.org
SUMMARY:The Baroque Big Band: Brookline
DESCRIPTION:JS Bach\, Vivaldi\, Telemann\, CPE Bach\, Purcell\nMistral’s annual bonanza of Baroque masterpieces\, with virtuosic soloists taking turns in the spotlight. All the usual suspects plus some surprises!
URL:https://mistralmusic.org/event/the-baroque-big-band-brookline-2/
LOCATION:St. Paul’s Church\, 15 St Paul St\, Brookline\, MA\, United States
ATTACH;FMTTYPE=image/jpeg:https://mistralmusic.org/wp-content/uploads/2024/04/2.jpg
END:VEVENT
BEGIN:VEVENT
DTSTART;TZID=America/New_York:20240915T170000
DTEND;TZID=America/New_York:20240915T190000
DTSTAMP:20260424T032742
CREATED:20240407T230015Z
LAST-MODIFIED:20240717T001451Z
UID:10000021-1726419600-1726426800@mistralmusic.org
SUMMARY:Wunderkinds of Lyricism: Brookline
DESCRIPTION:Brahms\, Mendelssohn & Mozart\nThree masterworks of lyrical beauty\, all written when the composers were in their twenties. Mendelssohn Songs Without Words; Mozart Divertimento; Brahms Piano Quartet in g minor
URL:https://mistralmusic.org/event/wunderkinds-of-lyricism-brookline/
LOCATION:St. Paul’s Church\, 15 St Paul St\, Brookline\, MA\, United States
ATTACH;FMTTYPE=image/jpeg:https://mistralmusic.org/wp-content/uploads/2024/04/Wolfgang-Amadeus-Mozart-27-January-1756-5-December-1791-celebrities-who-died-young-29534420-1920-1080.jpg
END:VEVENT
BEGIN:VEVENT
DTSTART;TZID=America/New_York:20240407T170000
DTEND;TZID=America/New_York:20240407T190000
DTSTAMP:20260424T032742
CREATED:20230416T210051Z
LAST-MODIFIED:20240314T202905Z
UID:10000018-1712509200-1712516400@mistralmusic.org
SUMMARY:Serenades & Merry Pranks: Brookline
DESCRIPTION:A far-flung musical journey as winds and strings unite in a program of high jinks and charm from Europe to America.\nDohnanyi\, R. Strauss\, Schoenfield\, Gambaro\, & Brahms!\nDohnanyi: Sextet\, Op. 37 for vln\, vla\, cello\, clar\, hrn\, & pno IV Finale: Allegro vivace\, giocoso. \nVincent Gambaro: Wind Quartet \nSchoenfield: Trio for clarinet\, violin\, & piano 1 Freylakh \nStrauss: Till Eulenspiegel’s Merry Pranks for clarinet\, bassoon\, horn\, violin\, bass\n \nBrahms Serenade No. 1\, Op. 11 Nonet (reconstruction of original nonet version by Alan Boustead) \n \n \nDanny Kim\, viola; Julie Scolnik\, flute;\nSam Childers\, bassoon; Todd Palmer\, clarinet;\nAlexandr Polyakov\, piano; Owen Young\, cello;\nRachel Childers\, horn; Don Palma\, bass;\nSolomiya Ivakhiv\, violin
URL:https://mistralmusic.org/event/serenades-merry-pranks-brookline/
LOCATION:St. Paul’s Church\, 15 St Paul St\, Brookline\, MA\, United States
END:VEVENT
BEGIN:VEVENT
DTSTART;TZID=America/New_York:20240211T170000
DTEND;TZID=America/New_York:20240211T190000
DTSTAMP:20260424T032742
CREATED:20230416T210034Z
LAST-MODIFIED:20240107T210744Z
UID:10000019-1707670800-1707678000@mistralmusic.org
SUMMARY:Wanderlust - Souvenirs from Abroad: Brookline
DESCRIPTION:Masterpieces inspired by composers’ overseas voyages\, environments which deeply infused their creative output: \nTchaikovsky: Souvenir de Florence for string sextet \nHaydn: London Symphony No. 104 (arranged for flute & strings by Solomon\, a violinist and impresario from the era) \nElizabeth Brown: Liguria (written during a stay in Italy)  for flute\, clarinet\, violin\, cello\, & piano \nMilhaud: Creation du Monde for piano & string quartet \n  \n Qing Hou & Sarita Kwok\,  violin; Lawrence Neumann & Stephanie Fong\, viola;\nSarah Bob\, piano; Catherine Hudgins\, clarinet;  Julie Scolnik\, flute\nWill Chow & Raman Ramakrishnan\, cello \n\n  \n  \n 
URL:https://mistralmusic.org/event/wanderlust-souvenirs-from-abroad-brookline-2/
LOCATION:St. Paul’s Church\, 15 St Paul St\, Brookline\, MA\, United States
ATTACH;FMTTYPE=image/png:https://mistralmusic.org/wp-content/uploads/2023/03/Wanderlust-Souvenirs-from-Abroad.png
END:VEVENT
BEGIN:VEVENT
DTSTART;TZID=America/New_York:20231105T170000
DTEND;TZID=America/New_York:20231105T190000
DTSTAMP:20260424T032742
CREATED:20230416T210016Z
LAST-MODIFIED:20230922T222321Z
UID:10000010-1699203600-1699210800@mistralmusic.org
SUMMARY:Affairs of the Harp: Brookline
DESCRIPTION:  \n \nCalled “the Yo-Yo Ma of the harp world\,” riveting harpist Bridget Kibbey makes her Mistral debut with artistic director and flutist Julie Scolnik in a diverse program that ranges from harp solos from her new CD by jazz legend Paquito D’Rivera who morphs the instrument into a bandoneon to evoke Argentinian tango\, to Boston composer Kati Ágocs\, a modern-day Benjamin Britten\, who treats her own native Canadian folk music as found objects for a new work for solo harp\, to David Bruce’s enchanting music-box-like Caja de Musica. Scolnik and Kibbey will offer a set of duo gems by French composers Ravel\, Debussy\, Saint Saens\, and Chaminade.  “Kibbey made it seem as though her instrument had been waiting all its life to explode with the gorgeous colors and energetic figures she was getting from it.”     The New York Times \nProgram: \nJ.S. BACH (1685-1750) Sonata in E flat Major (arr. for fl. & hp: Kibbey) \nPAQUITO D’RIVERA (b. 1948) Bandoneon for solo harp \nCAMILLE SAINT SAENS (1835-1921) Fantaisie\, Op. 124 for vln & hp \nDAVID BRUCE (b. 1970)  Caja de Musica for solo harp \nCLAUDE DEBUSSY (1862-1918) 10” Prélude à L’ Après-Midi d’un Faune (arr. for fl. & harp by J. Loman) \nKATI AGÓCS (b. 1975) Northern Lights (2011) 15” \nMAURICE RAVEL (1875-1937) Pavane pour une enfante défunte. 7 \nCÉCILE CHAMINADE (1857-1944) Concertino op. 107 \n 
URL:https://mistralmusic.org/event/affairs-of-the-harp-brookline/
LOCATION:St. Paul’s Church\, 15 St Paul St\, Brookline\, MA\, United States
ATTACH;FMTTYPE=image/jpeg:https://mistralmusic.org/wp-content/uploads/2023/03/Affairs-of-the-Harp.jpg
END:VEVENT
BEGIN:VEVENT
DTSTART;TZID=America/New_York:20230416T170000
DTEND;TZID=America/New_York:20230416T190000
DTSTAMP:20260424T032742
CREATED:20220929T035019Z
LAST-MODIFIED:20230410T164402Z
UID:10000008-1681664400-1681671600@mistralmusic.org
SUMMARY:Tales from Around the World: Brookline\, MA
DESCRIPTION:We bring Mistral’s 26th season to a close with four ravishing orchestral works in new chamber arrangements performed without a conductor. This is an ambitious program for an ensemble of 14 (winds\, harp\, strings\, and brass)\, including a world-premiere performance of an arrangement of Rimsky-Korsakov’s Scheherazade\, as well as three beautiful renditions of other tales from around the world—Ravel’s Mother Goose Suite\, Selections from Grieg’s Peer Gynt Suite\, and the Sicilienne from Fauré’s Pelleas & Mélisande. \nArtists Performing at Tales from Around the World:
URL:https://mistralmusic.org/event/tales-from-around-the-world-brookline-ma/
LOCATION:St. Paul’s Church\, 15 St Paul St\, Brookline\, MA\, United States
ATTACH;FMTTYPE=image/jpeg:https://mistralmusic.org/wp-content/uploads/2022/09/Tales-from-Around-the-World-1.jpg
END:VEVENT
BEGIN:VEVENT
DTSTART;TZID=America/New_York:20230212T170000
DTEND;TZID=America/New_York:20230212T190000
DTSTAMP:20260424T032742
CREATED:20220928T000750Z
LAST-MODIFIED:20230202T223933Z
UID:10000006-1676221200-1676228400@mistralmusic.org
SUMMARY:Silenced Voices: Brookline\, MA
DESCRIPTION:SILENCED VOICES\nLOVE & REMEMBRANCE\nValentine Concert\nSun\, Feb. 12\, 5 pm\nBrookline: St. Paul’s Church \nIf Music be the food of love\, play on! \nI have never been able to resist programming a Valentine concert inspired by the myriad facets of love. Some may believe that poetry is  love’s greatest vehicle for this high holy day in our calendars\, but I would argue that music\, which transcends language\, is love’s medium par excellence.  \nYes\, Shakespeare\, playing on: making music resiliently\, indelibly\, eternally\, even as an act of resistance to death\, is what today’s program affirms. We celebrate the enduring voices of composers who faced horrendous challenges during a dark period in time\, but who continued to write beautiful music. Several of today’s composers were forced to flee their homelands and leave their legacies behind. Shostakovich struggled to reconcile his artistic integrity with the demands of the Soviet regime. Mendelssohn’s music was belittled by the anti-Semites of his day and was eventually banned by the Nazis. \nFor all these composers and the music they wrote\, the phrase “undying love”comes to mind. Kindness and humanity are eternal; they are conserved; they do not die or succumb to the reigns of tyrants.  \nOn this concert we present a pastiche of beautiful works by composers whose voices were silenced at the hands of totalitarianism. Many composers were forced to flee their homelands and leave their legacies behind in order to escape prosecution and discrimination under the Nazi regime. Others were stripped of their art when their music was banned and removed from the repertoire of German orchestras by the Third Reich and Nazi-occupied Europe. \nThis special concert\, for strings\, piano\, voice\, and flute\, celebrates those many voices\, with pieces informing each other and resonating artistically. There is no need to put this music in a memorializing context in order to appreciate it\, but the works may engender deep thought in sound\, aesthetics\, and history. With the beautiful mezzo-soprano Kara Dugan\, who sang Mahler’s Ruckert Lieder for you two years ago. \nFRANZ SCHREKER  Violin Sonata in F major: Allegretto Moderato \nERWIN SCHULHOFF Concertino for  flute\, viola\, & bass. \nFELIX MENDELSSOHN Songs for Mezzo soprano & piano \n     Neue Liebe from 6 songs Op. 19a no. 4\n     Andres Mainlied from 12 songs Op. 8 no. 8 \nDIMITRI SHOSTAKOVICH  “Jewish Folk Poetry” Op. 79; Lullaby for Mezzo\nALEXANDER ZEMLINSKY  String Quartet No.1\, Op.4  (with flute):  Allegro con fuoco     \nKURT WEILL Songs for mezzo soprano & piano \n     Foolish Heart\n     One Life to Live\nDIMITRI SHOSTAKOVICH Piano Trio No. 2:  IV Allegretto\nERICH WOLFGANG KORNGOLD  (Marietta’s Lied from Die Tote Stadt)\, for piano\, string quartet\, & mezzo soprano \n\n\n\n\n\n\n\n\n\n\n\n\n\n\n\n \n\n\n\n\n\n\n\n\n\n\n\n\n\n\n\n 
URL:https://mistralmusic.org/event/silenced-voices-brookline-ma/
LOCATION:St. Paul’s Church\, 15 St Paul St\, Brookline\, MA\, United States
ATTACH;FMTTYPE=image/png:https://mistralmusic.org/wp-content/uploads/2022/09/Silenced-Voices.png
END:VEVENT
BEGIN:VEVENT
DTSTART;TZID=America/New_York:20221113T170000
DTEND;TZID=America/New_York:20221113T190000
DTSTAMP:20260424T032742
CREATED:20220927T233806Z
LAST-MODIFIED:20221004T031154Z
UID:10000002-1668358800-1668366000@mistralmusic.org
SUMMARY:La Vida Breve: Brookline\, MA
DESCRIPTION:JASON VIEAUX\, GUITAR\nJULIE SCOLNIK\, FLUTE\nSun\, Nov. 13\, 5 pm\nBrookline: St. Paul’s Church \nGrammy-winning international guitar virtuoso Jason Vieaux returns to the Mistral stage by popular demand to perform with founding artistic director and flutist Julie Scolnik. Their program will span centuries\, countries\, and styles\, from Bartók\, LeClair\, Leisner\, Shocker\, and Pat Metheny\, to a set of short gems by Da Falla\, Tchaikovsky\, Ravel\, and John Williams. We are thrilled that our audience will once again have the chance to experience Jason Vieaux’s artistry.
URL:https://mistralmusic.org/event/la-vida-breve-brookline-ma/
LOCATION:St. Paul’s Church\, 15 St Paul St\, Brookline\, MA\, United States
END:VEVENT
END:VCALENDAR