BEGIN:VCALENDAR
VERSION:2.0
PRODID:-//Mistral Music - ECPv6.15.20//NONSGML v1.0//EN
CALSCALE:GREGORIAN
METHOD:PUBLISH
X-WR-CALNAME:Mistral Music
X-ORIGINAL-URL:https://mistralmusic.org
X-WR-CALDESC:Events for Mistral Music
REFRESH-INTERVAL;VALUE=DURATION:PT1H
X-Robots-Tag:noindex
X-PUBLISHED-TTL:PT1H
BEGIN:VTIMEZONE
TZID:America/New_York
BEGIN:DAYLIGHT
TZOFFSETFROM:-0500
TZOFFSETTO:-0400
TZNAME:EDT
DTSTART:20210314T070000
END:DAYLIGHT
BEGIN:STANDARD
TZOFFSETFROM:-0400
TZOFFSETTO:-0500
TZNAME:EST
DTSTART:20211107T060000
END:STANDARD
BEGIN:DAYLIGHT
TZOFFSETFROM:-0500
TZOFFSETTO:-0400
TZNAME:EDT
DTSTART:20220313T070000
END:DAYLIGHT
BEGIN:STANDARD
TZOFFSETFROM:-0400
TZOFFSETTO:-0500
TZNAME:EST
DTSTART:20221106T060000
END:STANDARD
BEGIN:DAYLIGHT
TZOFFSETFROM:-0500
TZOFFSETTO:-0400
TZNAME:EDT
DTSTART:20230312T070000
END:DAYLIGHT
BEGIN:STANDARD
TZOFFSETFROM:-0400
TZOFFSETTO:-0500
TZNAME:EST
DTSTART:20231105T060000
END:STANDARD
BEGIN:DAYLIGHT
TZOFFSETFROM:-0500
TZOFFSETTO:-0400
TZNAME:EDT
DTSTART:20240310T070000
END:DAYLIGHT
BEGIN:STANDARD
TZOFFSETFROM:-0400
TZOFFSETTO:-0500
TZNAME:EST
DTSTART:20241103T060000
END:STANDARD
BEGIN:DAYLIGHT
TZOFFSETFROM:-0500
TZOFFSETTO:-0400
TZNAME:EDT
DTSTART:20250309T070000
END:DAYLIGHT
BEGIN:STANDARD
TZOFFSETFROM:-0400
TZOFFSETTO:-0500
TZNAME:EST
DTSTART:20251102T060000
END:STANDARD
BEGIN:DAYLIGHT
TZOFFSETFROM:-0500
TZOFFSETTO:-0400
TZNAME:EDT
DTSTART:20260308T070000
END:DAYLIGHT
BEGIN:STANDARD
TZOFFSETFROM:-0400
TZOFFSETTO:-0500
TZNAME:EST
DTSTART:20261101T060000
END:STANDARD
BEGIN:DAYLIGHT
TZOFFSETFROM:-0500
TZOFFSETTO:-0400
TZNAME:EDT
DTSTART:20270314T070000
END:DAYLIGHT
BEGIN:STANDARD
TZOFFSETFROM:-0400
TZOFFSETTO:-0500
TZNAME:EST
DTSTART:20271107T060000
END:STANDARD
END:VTIMEZONE
BEGIN:VEVENT
DTSTART;TZID=America/New_York:20260411T160000
DTEND;TZID=America/New_York:20260411T180000
DTSTAMP:20260423T052538
CREATED:20250406T230047Z
LAST-MODIFIED:20260217T145012Z
UID:10000036-1775923200-1775930400@mistralmusic.org
SUMMARY:AEOLIAN TAPESTRIES - Andover
DESCRIPTION:MESSAGER\, HAHN\, SAINT-SAENS\, ENESCO\, COLEMAN \nCome hear the past and present in dialogue\, where winds\, strings\, and harp intertwine\, spanning centuries and cultures. From Saint-Saëns’ brilliant Tarantella and the refined lyricism of Reynaldo Hahn\, to the rhythmic drive of Valerie Coleman and the folk-inspired excitement of Enesco\, the program highlights music that is both distinctive and immediately engaging\, including an entertaining nonet arrangement of French composer André Messager’s beautiful ballet The Two Pigeons! \n  \nCamille SAINT-SAËNS (1835-1921) Tarantella\n  arr. for flute\, clarinet\, string quartet & harp by David Walter) \nReynaldo HAHN (1874-1947) A Chloris  \n                   arr. for English horn\, string quartet\, & harp  by David Walter \nValerie COLEMAN (b. 1970) Umoja for string quartet \nGeorge ENESCO (1881-1955)  Romanian Rhapsody No. 1\n                                          arranged for small ensemble by Rick Robinson \nAndré MESSAGER(1853-1929) Suite from the ballet\, Les Deux Pigeons\, \n                    arranged for nonet by Todd Palmer \n  \nJulie Scolnik\, flute;  Kemp Jernigan\, oboe; Caitlin Lynch\, viola; Krysten Keches\, harp;\n Emma Frucht\, violin; Donald Palma\, bass;  Yasmina Spiegelberg\, clarinet;  Irina Muresanu\, violin; Jean-Michel Fonteneau\, cello   \n \n  \n  \n 
URL:https://mistralmusic.org/event/aeolian-tapestries-andover/
LOCATION:West Parish Church\, 129 Reservation Rd\, Andover\, MA\, United States
ATTACH;FMTTYPE=image/jpeg:https://mistralmusic.org/wp-content/uploads/2025/03/AEOLIAN-TAPESTRies.jpeg
END:VEVENT
BEGIN:VEVENT
DTSTART;TZID=America/New_York:20260207T160000
DTEND;TZID=America/New_York:20260207T180000
DTSTAMP:20260423T052538
CREATED:20250406T230027Z
LAST-MODIFIED:20260117T114713Z
UID:10000034-1770480000-1770487200@mistralmusic.org
SUMMARY:MISTRAL GOES TO HOLLYWOOD - Andover
DESCRIPTION:WILLIAMS\, ROTA\, KORNGOLD\, KUSIAK\, HERMANN\, MORRICONE\, CORIGLIANO \n🎬 Mistral Goes to HollywoodExperience an evening where great cinema and great music intersect. From the shimmering romance of classic Hollywood to the emotional power of modern film scores\, this program celebrates the composers who transformed the silver screen into one of the most expressive concert halls of our time. Featuring music by John Williams\, Bernard Herrmann\, Korngold\, Shostakovich\, Prokofiev\, Kusiak\, Nino Rota\, and Ennio Morricone\, this concert traces a dazzling arc from psychological suspense to sweeping lyricism\, nostalgia\, and noir. Join us for an unforgettable night where melody becomes memory—and movies come alive through chamber music. \nSarita Kwok\, Lucia Lin\, violins; Stephanie Fong viola; Owen Young\, cello;\nTodd Palmer\, clarinet; Julie Scolnik\, flute Sarah Bob\, piano \n \n  \n  \n  \n  \n  \nCORIGLIANO (b. 1938) The Red Violin Caprices.    Solo violin – Lucia  Lin \nJohn WILLIAMS (born Feb 8! 1932)  \n       Theme from Schindler’s List\n       Jewish Town\n       Princess Leia’s Theme for flute violin\, viola\, &  cello  \nBernard HERRMANN (1911-1975) “Psycho Suite” 11″arr. for String Quartet by Richard Birchall \nDimitri SHOSTAKOVICH (1906-1975) Waltz  from “Suite for Jazz Orchestra” \nNino ROTA  Trio for clarinet\, cello\, & piano: Allegrisimo\n                       Amarcord  \nJohn KUSIAK (b. 1948)  FILM NOIR for flute\, cello\, & piano \nSergei PROKOFIEV (1891-1953) Overture on Hebrew Themes  for Clarinet\, String Quartet\, and Piano\, Op. 34 (1919) \nEnnio MORRICONE (1928-2020) Cinema Paradiso arr.  for piano\, string quartet\, flute & clarinet \n  \n  \n  \n  \n  \n  \n  \n 
URL:https://mistralmusic.org/event/mistral-goes-to-hollywood-andover/
LOCATION:West Parish Church\, 129 Reservation Rd\, Andover\, MA\, United States
ATTACH;FMTTYPE=image/jpeg:https://mistralmusic.org/wp-content/uploads/2025/03/MISTRAL-GOES-TO-HOLLYWOOD.jpeg
END:VEVENT
BEGIN:VEVENT
DTSTART;TZID=America/New_York:20251207T160000
DTEND;TZID=America/New_York:20251207T180000
DTSTAMP:20260423T052538
CREATED:20250406T230025Z
LAST-MODIFIED:20251202T192434Z
UID:10000033-1765123200-1765130400@mistralmusic.org
SUMMARY:THE BAROQUE BIG BAND - Andover
DESCRIPTION:Note day swap! \nJ.S. BACH\, HANDEL\, RAMEAU\, VIVALDI\, PALLAVACINO \nMistral’s annual bonanza of Baroque masterpieces\, with virtuosic soloists taking turns in the spotlight. Double concertos by Telemann\, Vivaldi\, and Quantz\, gorgeous contralto arias\, and other surprises! \nVIVALDI (1678-1741) Concerto Grosso RV 150 III Allegro \nPURCELL (1659–1695) Chacony in G minor\, (arr. Britten IN ‘47\, rev. ’63) \nThree arias for mezzo-soprano \nHANDEL (1685-1759) Lascia ch´io pianga  from Rinaldo \nJ.S. BACH (1685-1750): Ich Habe Genug BWV 82a with flute obbligato. \nPALLAVICINO  (1630-1688)  Vieni\, corri\, volami in braccio from L’Antiope \nVIVALDI (1678-1741)  Concerto for 2 Violins in D minor RV 514    \nHANDEL (1685-1759) /HALVORSEN (1864-1935) Duo for violin & viola \nTELEMANN (1681-1767): Concerto two violas TWV 52:G3  \nQUANTZ  (1697–1773)- Concerto for 2 Flutes in G major\, QV 6:7 arranged for flute & oboe
URL:https://mistralmusic.org/event/the-baroque-big-band-andover-2/
LOCATION:West Parish Church\, 129 Reservation Rd\, Andover\, MA\, United States
ATTACH;FMTTYPE=image/png:https://mistralmusic.org/wp-content/uploads/2025/03/THE-BAROQUE-BIG-BAND.png
END:VEVENT
BEGIN:VEVENT
DTSTART;TZID=America/New_York:20251025T160000
DTEND;TZID=America/New_York:20251025T180000
DTSTAMP:20260423T052538
CREATED:20250406T230033Z
LAST-MODIFIED:20250709T154223Z
UID:10000030-1761408000-1761415200@mistralmusic.org
SUMMARY:YOUNG AT HEART - Andover
DESCRIPTION:FOR AGES 5-95 \nThe Maria Martell-Winthrop Memorial Concert \nJust in time for Halloween & Thanksgiving\, join us for an afternoon of vibrant musical story-telling: Bruce Adolphe’s Tough Turkey in the Big City\, Dukas’ The Sorcerer’s Apprentice\, and Mullikin’s The Emperor & the Nightingale. Seriously enjoyable FOR ALL AGES! Connect with your inner child and come in your Halloween costumes! WCRB radio’s Cathy Fuller narrates! \n  \n \n 
URL:https://mistralmusic.org/event/young-at-heart-andover/
LOCATION:West Parish Church\, 129 Reservation Rd\, Andover\, MA\, United States
ATTACH;FMTTYPE=image/jpeg:https://mistralmusic.org/wp-content/uploads/2025/04/Young-at-Heart-v2.jpeg
END:VEVENT
BEGIN:VEVENT
DTSTART;TZID=America/New_York:20250913T160000
DTEND;TZID=America/New_York:20250913T180000
DTSTAMP:20260423T052538
CREATED:20250406T230026Z
LAST-MODIFIED:20250906T003849Z
UID:10000028-1757779200-1757786400@mistralmusic.org
SUMMARY:THE BOULANGER Connection - Andover
DESCRIPTION:COPLAND\, PIAZZOLLA\,  FAURÉ\, LILI BOULANGER\, DETT\, BERNSTEIN \nGuided by the profound influence of her teacher Gabriel Fauré\, Nadia Boulanger became a transformative force in 20th-century music\, shaping generations of composers with her unwavering dedication to craft\, innovation\, and the integration of tradition with modernity. We honor her extraordinary legacy with a program of works by some of her most renowned students (and “grand-students”)\, as well as music from her own inner circle. \n  \nPROGRAM \nJulianne Lee\, violin Stephanie Fong\, viola Owen Young\, cello \nMax Levinson\, piano Julie Scolnik\, flute\n  \n  \nLili BOULANGER (1893-1918)  Nocturne & Cortege for violin & piano;   D’un Matin de Printemps for viola\, cello\, & piano \nAaron COPLAND (1900-1990)  Sonata for flute & piano \nLeonard BERNSTEIN (1918-1990) “Glitter and Be Gay” from the opera “Candide\,”  arranged for violin & piano by Eric Stern \nNathaniel DETT(1882-1943)  “Juba Dance” for solo piano  \nAstor PIAZZOLLA (1921-1992) Las Cuatro Estaciones porteñas (Four Seasons of Buenos Aires) for flute\, cello\, & piano \n         Primavera Porteña (Spring); Otoño Porteño (Autumn) \nIntermission  \nGabriel FAURÉ (1845-1924)  Piano Quartet No. 1 in C Minor\, Op. 15 \n  \nWith Stephanie Fong\, Julianne Lee\, Max Levinson\, Julie Scolnik\, and Owen Young
URL:https://mistralmusic.org/event/the-boulanger-connection-andover/
LOCATION:West Parish Church\, 129 Reservation Rd\, Andover\, MA\, United States
ATTACH;FMTTYPE=image/jpeg:https://mistralmusic.org/wp-content/uploads/2025/03/THE-BOULANGER-Connection.jpeg
END:VEVENT
BEGIN:VEVENT
DTSTART;TZID=America/New_York:20250405T160000
DTEND;TZID=America/New_York:20250405T180000
DTSTAMP:20260423T052538
CREATED:20240407T230004Z
LAST-MODIFIED:20250304T215038Z
UID:10000026-1743868800-1743876000@mistralmusic.org
SUMMARY:Reflections From The Seine: Andover
DESCRIPTION:Mistral Music is pleased to invite audiences on a journey through luminous soundscapes\, where impressionist colors and lyrical melodies intertwine to capture the beauty and spirit of France’s rich musical tradition. \nThe program opens with a mesmerizing gem by the little-known Breton composer and naval officer Jean Cras—his Quintet for Flute\, String Trio\, and Harp. Infused with delicate textures and maritime influences\, this evocative work reflects the rhythms of the sea and the composer’s life aboard ship. \nNext\, selected movements from Jean Françaix’s String Trio offer a playful and witty interlude\, full of charm and sparkling ingenuity. The mood then shifts with Danse Macabre by Camille Saint-Saëns\, reimagined for violin duo—a thrilling and eerie depiction of the dance of death\, balancing mischief and mystery in equal measure. \nThe concert continues with Claude Debussy’s String Quartet\, a revolutionary masterpiece that redefined chamber music with its innovative harmonies and fluid rhythmic invention. \nIn celebration of his 150th birthday\, the concert concludes with Maurice Ravel’s Introduction & Allegro\, a radiant work which brings all the artists together on stage\, and envelops the listener in lush textures and shimmering color\, showcasing the virtuosity of Boston Symphony Orchestra’s principal harpist\, Jessica Zhou. \nJoin us for Reflections from the Seine\, where the music of some of France’s greatest composers flows like the river itself—shimmering\, mysterious\, and endlessly captivating. With French cellist Jean-Michel Fonteneau\, Mistral violist Stephanie Fong\, guest violinists Siwoo Kim and Maureen Nelson\, flutist Julie Scolnik\, clarinetist Catherine Hudgins\, and BSO principal harp goddess\, Jessica Zhou. \nCome bid us farewell for the summer! \nJean CRAS (1870-1958)  Quintet for flute\, string trio\, & harp \nJean FRANÇAIX String Trio \nCamille SAINT-SAENS: Danse Macabre for violin duo arr. Boutellis/Duval \nClaude DEBUSSY String Quartet  \nMaurice RAVEL (1875-1937) Introduction & Allegro\nfor harp\, for string quartet\, flute\, & clarinet
URL:https://mistralmusic.org/event/reflections-from-the-seine-andover/
LOCATION:West Parish Church\, 129 Reservation Rd\, Andover\, MA\, United States
ATTACH;FMTTYPE=image/jpeg:https://mistralmusic.org/wp-content/uploads/2024/03/3.jpg
END:VEVENT
BEGIN:VEVENT
DTSTART;TZID=America/New_York:20250208T160000
DTEND;TZID=America/New_York:20250208T180000
DTSTAMP:20260423T052538
CREATED:20240407T230055Z
LAST-MODIFIED:20250117T011702Z
UID:10000024-1739030400-1739037600@mistralmusic.org
SUMMARY:Sense & Sensibility: Andover
DESCRIPTION:Beethoven\, Montgomery\, Puccini\, Dvorak\nThe Age of Reason shares the stage with the Romantic Era: A quintet by Beethoven\, a sextet by Dvorak\, and two short string quartet gems: Puccini’s “Crisantemi” and “Strum” by the young\, brilliant African American composer\, Jessie Montgomery. \nFor our Valentine concert this year\, the Age of Reason shares the stage with the Romantic Era in a program that includes Beethoven’s sunny String Quintet Op. 29 in a new flute arrangement\, Dvorak’s expansive String Sextet in A major\, and two short string quartet gems: Puccini’s delicate “Crisantemi\,” and the ground-breaking “Strum” by the brilliant young African American composer\, Jessie Montgomery.\n \nThe Beethoven Quintet\, Op. 29\, is his only full-scale\, original composition in the string quintet genre; it is a richly melodic and elegant work\, and its blustery finale\, and occasional flashes of lightening have given the work its nickname\, “Storm Quintet.” It is a pleasure to have made it a newish work by transcribing the first violin part for flute. You know me by now! The contrast of the flute timbre and resonance against the four strings enhances its innate beauty.\n \nJessie Montgomery\, Musical America’s 2023 Composer of the Year\, is a GRAMMY-winning\, acclaimed composer\, violinist\, and educator whose music interweaves classical music with elements of vernacular music\, improvisation\, poetry\, and social consciousness\, making her an acute interpreter of twenty-first century American sound and experience.\n \nThe Dvorak String Sextet was composed in the middle of the composer’s Slavic period\, in which the composer introduced folk elements into his music. When conductor Václav Talich heard Dvořák’s sextet in 1941\, he declared: “Oh my word! This is so beautiful! Beautiful musical ideas\, a beautiful structure and a beautiful sound! God himself must have been walking the Czech Lands when his humble servant Dvořák bequeathed to us a work of such excellence and sanctity.”\n \nAppropriate for Valentine’s Day\, among the featured performers will be two married couples—Mistral member violinist Sarita Kwok and her husband\, BSO cellist Alexandre Lecarme\, and returning guest artists hailing from the Chicago Symphony: violist Lawrence Neumann and violinist Qing Hou; Mistral members violist Stephanie Fong\, flutist Julie Scolnik\, and frequent guest cellist Raman Ramakrishnan complete the roster.
URL:https://mistralmusic.org/event/sense-sensibility-ii-andover/
LOCATION:West Parish Church\, 129 Reservation Rd\, Andover\, MA\, United States
ATTACH;FMTTYPE=image/jpeg:https://mistralmusic.org/wp-content/uploads/2024/03/4.jpg
END:VEVENT
BEGIN:VEVENT
DTSTART;TZID=America/New_York:20241207T160000
DTEND;TZID=America/New_York:20241207T180000
DTSTAMP:20260423T052538
CREATED:20240407T230017Z
LAST-MODIFIED:20240621T151440Z
UID:10000022-1733587200-1733594400@mistralmusic.org
SUMMARY:The Baroque Big Band: Andover
DESCRIPTION:JS Bach\, Vivaldi\, Telemann\, CPE Bach\, Purcell\nMistral’s annual bonanza of Baroque masterpieces\, with virtuosic soloists taking turns in the spotlight. All the usual suspects plus some surprises!
URL:https://mistralmusic.org/event/the-baroque-big-band/
LOCATION:West Parish Church\, 129 Reservation Rd\, Andover\, MA\, United States
ATTACH;FMTTYPE=image/jpeg:https://mistralmusic.org/wp-content/uploads/2024/04/2.jpg
END:VEVENT
BEGIN:VEVENT
DTSTART;TZID=America/New_York:20240914T160000
DTEND;TZID=America/New_York:20240914T180000
DTSTAMP:20260423T052538
CREATED:20240407T230051Z
LAST-MODIFIED:20240717T033142Z
UID:10000020-1726329600-1726336800@mistralmusic.org
SUMMARY:Wunderkinds of Lyricism: Andover
DESCRIPTION:MENDELSSOHN\, MOZART\, BRAHMS\nThree masterworks of lyrical beauty\, all written when the composers were in their twenties. Mendelssohn Songs Without Words (fl arr.) Mozart Divertimento in Eb; Brahms Piano Quartet in g minor
URL:https://mistralmusic.org/event/wunderkinds-of-lyricism/
LOCATION:West Parish Church\, 129 Reservation Rd\, Andover\, MA\, United States
ATTACH;FMTTYPE=image/jpeg:https://mistralmusic.org/wp-content/uploads/2024/04/Wolfgang-Amadeus-Mozart-27-January-1756-5-December-1791-celebrities-who-died-young-29534420-1920-1080.jpg
END:VEVENT
BEGIN:VEVENT
DTSTART;TZID=America/New_York:20240210T160000
DTEND;TZID=America/New_York:20240210T180000
DTSTAMP:20260423T052538
CREATED:20230416T210033Z
LAST-MODIFIED:20240107T210607Z
UID:10000015-1707580800-1707588000@mistralmusic.org
SUMMARY:Wanderlust - Souvenirs from Abroad: Andover
DESCRIPTION:Masterpieces inspired by composers’ overseas voyages\, environments which deeply infused their creative output: \nTchaikovsky: Souvenir de Florence for string sextet \nHaydn: London Symphony No. 104 (arranged for flute & strings by Solomon\, a violinist and impresario from the era) \nElizabeth Brown: Liguria (written during a stay in Italy)  for flute\, clarinet\, violin\, cello\, & piano \nMilhaud: Creation du Monde for piano & string quartet \n  \n Qing Hou & Sarita Kwok\,  violin; Lawrence Neumann & Stephanie Fong\, viola;\nSarah Bob\, piano; Catherine Hudgins\, clarinet;  Julie Scolnik\, flute\nWill Chow & Raman Ramakrishnan\, cello
URL:https://mistralmusic.org/event/wanderlust-souvenirs-from-abroad-andover/
LOCATION:West Parish Church\, 129 Reservation Rd\, Andover\, MA\, United States
ATTACH;FMTTYPE=image/png:https://mistralmusic.org/wp-content/uploads/2023/03/Wanderlust-Souvenirs-from-Abroad.png
END:VEVENT
BEGIN:VEVENT
DTSTART;TZID=America/New_York:20231104T160000
DTEND;TZID=America/New_York:20231104T180000
DTSTAMP:20260423T052538
CREATED:20230417T100053Z
LAST-MODIFIED:20230922T222248Z
UID:10000009-1699113600-1699120800@mistralmusic.org
SUMMARY:Affairs of the Harp: Andover
DESCRIPTION:Called “the Yo-Yo Ma of the harp world\,” riveting harpist Bridget Kibbey makes her Mistral debut with artistic director and flutist Julie Scolnik in a diverse program that ranges from harp solos from her new CD by jazz legend Paquito D’Rivera who morphs the instrument into a bandoneon to evoke Argentinian tango\, to Boston composer Kati Ágocs\, a modern-day Benjamin Britten\, who treats her own native Canadian folk music as found objects for a new work for solo harp\, to David Bruce’s enchanting music-box-like Caja de Musica. Together Scolnik and Kibbey will offer a set of duo gems by French composers Ravel\, Debussy\, Saint Saens\, and Chaminade.  “Kibbey made it seem as though her instrument had been waiting all its life to explode with the gorgeous colors and energetic figures she was getting from it.”     The New York Times \n  \nProgram: \nJ.S. BACH (1685-1750) Sonata in E flat Major (arr. for fl. & hp: Kibbey) \nPAQUITO D’RIVERA (b. 1948) Bandoneon for solo harp \nCAMILLE SAINT SAENS (1835-1921) Fantaisie\, Op. 124 for vln & hp \nDAVID BRUCE (b. 1970)  Caja de Musica for solo harp \nCLAUDE DEBUSSY (1862-1918) 10” Prélude à L’ Après-Midi d’un Faune (arr. for flute & harp by Judy Loman) \nKATI AGÓCS (b. 1975) Northern Lights (2011) 15” \nMAURICE RAVEL (1875-1937) Pavane pour une enfante défunte. 7 \nCÉCILE CHAMINADE (1857-1944) Concertino op. 107 \n 
URL:https://mistralmusic.org/event/affairs-of-the-harp-andover/
LOCATION:West Parish Church\, 129 Reservation Rd\, Andover\, MA\, United States
ATTACH;FMTTYPE=image/jpeg:https://mistralmusic.org/wp-content/uploads/2023/03/Affairs-of-the-Harp.jpg
END:VEVENT
BEGIN:VEVENT
DTSTART;TZID=America/New_York:20230909T160000
DTEND;TZID=America/New_York:20230909T180000
DTSTAMP:20260423T052538
CREATED:20230416T100030Z
LAST-MODIFIED:20230909T025323Z
UID:10000011-1694275200-1694282400@mistralmusic.org
SUMMARY:Portraits of Madness: Andover
DESCRIPTION:View the Andover Concert Storm Update \nIn its opening concert\, Mistral explores the fascinating intersection of the tumultuous inner struggles and creative brilliance in the lives of some of history’s most iconic composers. Fearful of death\, dogged by superstition\, or burdened with creative and personal frustration\, these composers used music to express their existential angst\, if not to find solace in the language of music. \nPrydatkevych: From Ukrainian Rhapsody for Violin & Piano: II. A Song  \nMahler: Piano Quartet\nTchaikovsky: Lensky’s Aria from Eugene Onegin\, for flute & piano\nBeethoven: Excerpts from String Trio in E flat major for flute & strings\nSchumann: Piano Quartet \n \n\n \n\nStephanie Fong\, viola\nSasha Scolnik-Brower\, cello\nSophie Scolnik-Brower\, piano\nJulie Scolnik\, flute\nSolomiya Ivakhiv\, violin
URL:https://mistralmusic.org/event/portraits-of-madness-andover/
LOCATION:West Parish Church\, 129 Reservation Rd\, Andover\, MA\, United States
ATTACH;FMTTYPE=image/png:https://mistralmusic.org/wp-content/uploads/2023/03/Portrait-of-Madness.png
END:VEVENT
BEGIN:VEVENT
DTSTART;TZID=America/New_York:20221112T160000
DTEND;TZID=America/New_York:20221112T180000
DTSTAMP:20260423T052538
CREATED:20220927T224942Z
LAST-MODIFIED:20221004T031116Z
UID:10000001-1668268800-1668276000@mistralmusic.org
SUMMARY:La Vida Breve: Andover\, MA
DESCRIPTION:JASON VIEAUX\, GUITAR\nJULIE SCOLNIK\, FLUTE\nSat\, Nov. 12\, 4 pm\nAndover: West Parish Church \nGrammy-winning international guitar virtuoso Jason Vieaux returns to the Mistral stage by popular demand to perform with founding artistic director and flutist Julie Scolnik. Their program will span centuries\, countries\, and styles\, from Bartók\, LeClair\, Leisner\, Shocker\, and Pat Metheny\, to a set of short gems by Da Falla\, Tchaikovsky\, Ravel\, and John Williams. We are thrilled that our audience will once again have the chance to experience Jason Vieaux’s artistry.
URL:https://mistralmusic.org/event/la-vida-breve-andover-ma/
LOCATION:West Parish Church\, 129 Reservation Rd\, Andover\, MA\, United States
END:VEVENT
END:VCALENDAR