BEGIN:VCALENDAR
VERSION:2.0
PRODID:-//Mistral Music - ECPv6.15.20//NONSGML v1.0//EN
CALSCALE:GREGORIAN
METHOD:PUBLISH
X-WR-CALNAME:Mistral Music
X-ORIGINAL-URL:https://mistralmusic.org
X-WR-CALDESC:Events for Mistral Music
REFRESH-INTERVAL;VALUE=DURATION:PT1H
X-Robots-Tag:noindex
X-PUBLISHED-TTL:PT1H
BEGIN:VTIMEZONE
TZID:America/New_York
BEGIN:DAYLIGHT
TZOFFSETFROM:-0500
TZOFFSETTO:-0400
TZNAME:EDT
DTSTART:20210314T070000
END:DAYLIGHT
BEGIN:STANDARD
TZOFFSETFROM:-0400
TZOFFSETTO:-0500
TZNAME:EST
DTSTART:20211107T060000
END:STANDARD
BEGIN:DAYLIGHT
TZOFFSETFROM:-0500
TZOFFSETTO:-0400
TZNAME:EDT
DTSTART:20220313T070000
END:DAYLIGHT
BEGIN:STANDARD
TZOFFSETFROM:-0400
TZOFFSETTO:-0500
TZNAME:EST
DTSTART:20221106T060000
END:STANDARD
BEGIN:DAYLIGHT
TZOFFSETFROM:-0500
TZOFFSETTO:-0400
TZNAME:EDT
DTSTART:20230312T070000
END:DAYLIGHT
BEGIN:STANDARD
TZOFFSETFROM:-0400
TZOFFSETTO:-0500
TZNAME:EST
DTSTART:20231105T060000
END:STANDARD
END:VTIMEZONE
BEGIN:VEVENT
DTSTART;TZID=America/New_York:20221112T160000
DTEND;TZID=America/New_York:20221112T180000
DTSTAMP:20260423T064629
CREATED:20220927T224942Z
LAST-MODIFIED:20221004T031116Z
UID:10000001-1668268800-1668276000@mistralmusic.org
SUMMARY:La Vida Breve: Andover\, MA
DESCRIPTION:JASON VIEAUX\, GUITAR\nJULIE SCOLNIK\, FLUTE\nSat\, Nov. 12\, 4 pm\nAndover: West Parish Church \nGrammy-winning international guitar virtuoso Jason Vieaux returns to the Mistral stage by popular demand to perform with founding artistic director and flutist Julie Scolnik. Their program will span centuries\, countries\, and styles\, from Bartók\, LeClair\, Leisner\, Shocker\, and Pat Metheny\, to a set of short gems by Da Falla\, Tchaikovsky\, Ravel\, and John Williams. We are thrilled that our audience will once again have the chance to experience Jason Vieaux’s artistry.
URL:https://mistralmusic.org/event/la-vida-breve-andover-ma/
LOCATION:West Parish Church\, 129 Reservation Rd\, Andover\, MA\, United States
END:VEVENT
END:VCALENDAR